BEGIN:VCALENDAR
VERSION:2.0
PRODID:spatie/icalendar-generator
DESCRIPTION:Events from eroumen - Languages of the Bible
X-WR-CALDESC:Events from eroumen - Languages of the Bible
REFRESH-INTERVAL;VALUE=DURATION:PT1440M
X-PUBLISHED-TTL:PT1440M
BEGIN:VTIMEZONE
TZID:Etc/GMT+0
BEGIN:STANDARD
DTSTART:20240123T100000Z
TZOFFSETFROM:+0000
TZOFFSETTO:+0000
END:STANDARD
END:VTIMEZONE
BEGIN:VTIMEZONE
TZID:UTC
BEGIN:STANDARD
DTSTART:20250725T082506Z
TZOFFSETFROM:+0000
TZOFFSETTO:+0000
END:STANDARD
END:VTIMEZONE
BEGIN:VEVENT
UID:252-19
DTSTAMP:20260421T082506Z
SUMMARY:Intermediate Greek 4
LOCATION:Zoom
ORGANIZER;CN=Stephanos:MAILTO:stephanos@eroumen.co.uk
DTSTART;TZID=Etc/GMT+0:20241019T100000
DTEND;TZID=Etc/GMT+0:20241019T110000
X-ALT-DESC;FMTTYPE=TEXT/HTML:<p>Lesson 38 - Revision VII</p>\n
CATEGORIES:Greek
URL;VALUE=URI:https://eroumen.co.uk/mc-events/intermediate-greek-4/
METHOD:PUBLISH
END:VEVENT
END:VCALENDAR