BEGIN:VCALENDAR
VERSION:2.0
PRODID:spatie/icalendar-generator
DESCRIPTION:Events from eroumen - Languages of the Bible
X-WR-CALDESC:Events from eroumen - Languages of the Bible
REFRESH-INTERVAL;VALUE=DURATION:PT1440M
X-PUBLISHED-TTL:PT1440M
BEGIN:VTIMEZONE
TZID:Etc/GMT+0
BEGIN:STANDARD
DTSTART:20240218T170000Z
TZOFFSETFROM:+0000
TZOFFSETTO:+0000
END:STANDARD
END:VTIMEZONE
BEGIN:VTIMEZONE
TZID:UTC
BEGIN:STANDARD
DTSTART:20250725T083330Z
TZOFFSETFROM:+0000
TZOFFSETTO:+0000
END:STANDARD
END:VTIMEZONE
BEGIN:VEVENT
UID:219-11
DTSTAMP:20260421T083330Z
SUMMARY:Beginner Hebrew 6
LOCATION:Zoom
ORGANIZER;CN=Stephanos:MAILTO:stephanos@eroumen.co.uk
DTSTART;TZID=Etc/GMT+0:20241114T170000
DTEND;TZID=Etc/GMT+0:20241114T180000
X-ALT-DESC;FMTTYPE=TEXT/HTML:
CATEGORIES:Hebrew
URL;VALUE=URI:https://eroumen.co.uk/mc-events/beginner-hebrew-6/
METHOD:PUBLISH
END:VEVENT
END:VCALENDAR